Workbook

Sheet 보선결과
A1: 2011년 상반기 재·보궐선거 투·개표 결과
A3: 1. 후보자등록상황
A4: 선거구분 | B4: 시도명 | C4: 선거구명 | D4: 등 록 후보자수 | E4: 사퇴·사망 ·등록무효 | F4: 최 종 후보자수 | G4: 경쟁률 | I4: 비고
A5: 계 | D5: =SUM(D6:D17) -> 135 | E5: =SUM(E6:E17) -> 1 | F5: =SUM(F6:F17) -> 134 | G5: 3.5 : 1
A6: 국 회 의 원 | B6: 경기 | C6: 성남시분당구을 | D6: 3 | E6: 0 | F6: =D6-E6 -> 3 | G6: 3 : 1
B7: 전남 | C7: 순천시 | D7: 7 | E7: 0 | F7: =D7-E7 -> 7 | G7: 7 : 1
B8: 경남 | C8: 김해시을 | D8: 2 | E8: 0 | F8: =D8-E8 -> 2 | G8: 2 : 1
A9: 광 역 단체장 | B9: 강원 | C9: 강원도 | D9: 3 | E9: 0 | F9: =D9-E9 -> 3 | G9: 3 : 1
A10: 기 초 단체장 | B10: 서울 | C10: 중구 | D10: 2 | E10: 0 | F10: =D10-E10 -> 2 | G10: 2 : 1
B11: 울산 | C11: 중구 | D11: 2 | E11: 0 | F11: =D11-E11 -> 2 | G11: 2 : 1
C12: 동구 | D12: 4 | E12: 0 | F12: =D12-E12 -> 4 | G12: 4 : 1
B13: 강원 | C13: 양양군 | D13: 4 | E13: 0 | F13: =D13-E13 -> 4 | G13: 4 : 1
B14: 충남 | C14: 태안군 | D14: 4 | E14: 0 | F14: =D14-E14 -> 4 | G14: 4 : 1
B15: 전남 | C15: 화순군 | D15: 4 | E15: 0 | F15: =D15-E15 -> 4 | G15: 4 : 1
A16: 광역의원(5) | D16: 18 | E16: 0 | F16: =D16-E16 -> 18 | G16: 3.6 : 1
A17: 기초의원(23) | D17: 82 | E17: 1 | F17: =D17-E17 -> 81 | G17: 3.5 : 1
A19: 2. 투표상황
A20: 가. 선거구별 투표결과
A21: 선거구분 | C21: 시도명 | D21: 선거구명 | E21: 선거인수 | G21: 투표자수 | H21: 투표율 (%) | I21: 비고
A22: 국회의원 | C22: 경기 | D22: 성남시분당구을 | E22: 166384 | G22: ='(별지2)후보자별득표상황'!E6 -> 81634 | H22: =ROUND(G22*100/E22,1) -> 49.1
C23: 전남 | D23: 순천시 | E23: 204682 | G23: ='(별지2)후보자별득표상황'!E10 -> 84046 | H23: =ROUND(G23*100/E23,1) -> 41.1
C24: 경남 | D24: 김해시을 | E24: 210874 | G24: ='(별지2)후보자별득표상황'!E18 -> 87529 | H24: =ROUND(G24*100/E24,1) -> 41.5
A25: 광역단체장 | C25: 강원 | D25: 강원도 | E25: 1214936 | G25: ='(별지2)후보자별득표상황'!E22 -> 577124 | H25: =ROUND(G25*100/E25,1) -> 47.5
A26: 선거구분 | C26: 시도명 | D26: 선거구명 | E26: 선거인수 | G26: 투표자수 | H26: 투표율 (%) | I26: 비고
A27: 기초단체장 | C27: 서울 | D27: 중구 | E27: 112888 | G27: ='(별지2)후보자별득표상황'!E26 -> 35419 | H27: =ROUND(G27*100/E27,1) -> 31.4
C28: 울산 | D28: 중구 | E28: 181700 | G28: ='(별지2)후보자별득표상황'!E30 -> 57410 | H28: =ROUND(G28*100/E28,1) -> 31.6
D29: 동구 | E29: 132233 | G29: ='(별지2)후보자별득표상황'!E34 -> 62782 | H29: =ROUND(G29*100/E29,1) -> 47.5
C30: 강원 | D30: 양양군 | E30: 23309 | G30: ='(별지2)후보자별득표상황'!E42 -> 15385 | H30: =ROUND(G30*100/E30,1) -> 66
C31: 충남 | D31: 태안군 | E31: 52796 | G31: ='(별지2)후보자별득표상황'!E50 -> 27730 | H31: =ROUND(G31*100/E31,1) -> 52.5
C32: 전남 | D32: 화순군 | E32: 55059 | G32: ='(별지2)후보자별득표상황'!E58 -> 34149 | H32: =ROUND(G32*100/E32,1) -> 62
A33: 광역의원 | C33: 울산 | D33: 중구제4 | E33: 28533 | G33: ='(별지2)후보자별득표상황'!E66 -> 11573 | H33: =ROUND(G33*100/E33,1) -> 40.6
C34: 충북 | D34: 제천시제2 | E34: 44921 | G34: ='(별지2)후보자별득표상황'!E74 -> 13304 | H34: =ROUND(G34*100/E34,1) -> 29.6
C35: 전북 | D35: 전주시제9 | E35: 51652 | G35: ='(별지2)후보자별득표상황'!E78 -> 10102 | H35: =ROUND(G35*100/E35,1) -> 19.6
C36: 전남 | D36: 화순군제2 | E36: 17478 | G36: ='(별지2)후보자별득표상황'!E82 -> 11548 | H36: =ROUND(G36*100/E36,1) -> 66.1
C37: 경남 | D37: 거제시제1 | E37: 72014 | G37: ='(별지2)후보자별득표상황'!E86 -> 18673 | H37: =ROUND(G37*100/E37,1) -> 25.9
A38: 기초의원 | C38: 서울 | D38: 강남구다 | E38: 71290 | G38: ='(별지2)후보자별득표상황'!E94 -> 6748 | H38: =ROUND(G38*100/E38,1) -> 9.5
D39: 강남구사 | E39: 36880 | G39: ='(별지2)후보자별득표상황'!E98 -> 6267 | H39: =ROUND(G39*100/E39,1) -> 17
C40: 대구 | D40: 서구가 | E40: 38148 | G40: ='(별지2)후보자별득표상황'!E102 -> 6113 | H40: =ROUND(G40*100/E40,1) -> 16
D41: 달서구라 | E41: 83205 | G41: ='(별지2)후보자별득표상황'!E110 -> 12935 | H41: =ROUND(G41*100/E41,1) -> 15.5
D42: 달서구마 | E42: 46316 | G42: ='(별지2)후보자별득표상황'!E118 -> 8584 | H42: =ROUND(G42*100/E42,1) -> 18.5
C43: 대전 | D43: 대덕구나 | E43: 56970 | G43: ='(별지2)후보자별득표상황'!E122 -> 8565 | H43: =ROUND(G43*100/E43,1) -> 15
C44: 울산 | D44: 중구가 | E44: 55906 | G44: ='(별지2)후보자별득표상황'!E130 -> 16771 | H44: =ROUND(G44*100/E44,1) -> 30
C45: 경기 | D45: 고양시바 | E45: 110079 | G45: ='(별지2)후보자별득표상황'!E134 -> 17177 | H45: =ROUND(G45*100/E45,1) -> 15.6
D46: 안성시나 | E46: 34915 | G46: ='(별지2)후보자별득표상황'!E142 -> 8296 | H46: =ROUND(G46*100/E46,1) -> 23.8
C47: 강원 | D47: 태백시나 | E47: 24456 | G47: ='(별지2)후보자별득표상황'!E146 -> 12675 | H47: =ROUND(G47*100/E47,1) -> 51.8
C48: 충북 | D48: 제천시가 | E48: 13906 | G48: ='(별지2)후보자별득표상황'!E154 -> 5580 | H48: =ROUND(G48*100/E48,1) -> 40.1
D49: 청원군가 | E49: 21864 | G49: ='(별지2)후보자별득표상황'!E158 -> 9528 | H49: =ROUND(G49*100/E49,1) -> 43.6
A51: 선거구분 | C51: 시도명 | D51: 선거구명 | E51: 선거인수 | G51: 투표자수 | H51: 투표율 (%) | I51: 비고
A52: 기초의원 | C52: 충남 | D52: 보령시가 | E52: 21874 | G52: ='(별지2)후보자별득표상황'!E162 -> 10824 | H52: =ROUND(G52*100/E52,1) -> 49.5
D53: 연기군다 | E53: 10942 | G53: ='(별지2)후보자별득표상황'!E170 -> 4831 | H53: =ROUND(G53*100/E53,1) -> 44.2
D54: 부여군나 | E54: 14186 | G54: ='(별지2)후보자별득표상황'!E178 -> 7909 | H54: =ROUND(G54*100/E54,1) -> 55.8
D55: 서천군가 | E55: 25111 | G55: ='(별지2)후보자별득표상황'!E182 -> 11391 | H55: =ROUND(G55*100/E55,1) -> 45.4
C56: 전북 | D56: 남원시가 | E56: 9883 | G56: ='(별지2)후보자별득표상황'!E186 -> 6071 | H56: =ROUND(G56*100/E56,1) -> 61.4
D57: 고창군가 | E57: 20698 | G57: ='(별지2)후보자별득표상황'!E194 -> 6765 | H57: =ROUND(G57*100/E57,1) -> 32.7
C58: 전남 | D58: 목포시라 | E58: 26343 | G58: ='(별지2)후보자별득표상황'!E198 -> 8182 | H58: =ROUND(G58*100/E58,1) -> 31.1
C59: 경북 | D59: 예천군라 | E59: 9900 | G59: ='(별지2)후보자별득표상황'!E202 -> 6279 | H59: =ROUND(G59*100/E59,1) -> 63.4
C60: 경남 | D60: 고성군다 | E60: 14804 | G60: ='(별지2)후보자별득표상황'!E206 -> 7393 | H60: =ROUND(G60*100/E60,1) -> 49.9
D61: 양산시바 | E61: 33863 | G61: ='(별지2)후보자별득표상황'!E214 -> 9313 | H61: =ROUND(G61*100/E61,1) -> 27.5
D62: 함양군나 | E62: 7638 | G62: ='(별지2)후보자별득표상황'!E222 -> 5037 | H62: =ROUND(G62*100/E62,1) -> 65.9
A64: 나. 선거별 투표율
A65: 선거구분 | C65: 선거인수 | D65: 투표자수 | E65: 투표율(%) | H65: 비고
E66: 평균 | F66: 최고 | G66: 최저
A67: 총합계 | C67: 3208954 | D67: =SUM(D68:D72) -> 1331642 | E67: =ROUND(D67*100/C67,1) -> 41.5
A68: 국회의원 | C68: =SUM(E22:F24) -> 581940 | D68: =SUM(G22:G24) -> 253209 | E68: =ROUND(D68*100/C68,1) -> 43.5 | F68: 49.1 | G68: 41.1
A69: 광역단체장 | C69: 1214936 | D69: =G25 -> 577124 | E69: =ROUND(D69*100/C69,1) -> 47.5
A70: 기초단체장 | C70: 557985 | D70: =SUM(G27:G32) -> 232875 | E70: =ROUND(D70*100/C70,1) -> 41.7 | F70: 66 | G70: 31.4
A71: 광역의원 | C71: 214598 | D71: =SUM(G33:G37) -> 65200 | E71: =ROUND(D71*100/C71,1) -> 30.4 | F71: 66.1 | G71: 19.6
A72: 기초의원 | C72: 789177 | D72: =SUM(G38:G49)+SUM(G52:G62) -> 203234 | E72: =ROUND(D72*100/C72,1) -> 25.8 | F72: 65.9 | G72: 9.5
A73: ※ 동시선거실시지역 선거인수 및 투표자수는 총합계에서 제외
A74: ※ 최근 실시 재·보선 투표율 현황
A75: - '10 하반기 : 30.9% | E75: - '10 상반기(국회의원 8) : 34.1%
A76: - '09 하반기(국회의원 5) : 39.0% | E76: - '09 상반기 : 34.5%(국회의원 40.8%)
A78: 다. 시간대별 투표진행상황 : 별지1 참조
A80: 3. 개표상황 : 별지2(후보자별 득표상황) 참조
A82: 4. 당선인
A83: 선거구분 | C83: 시도명 | D83: 선거구명 | E83: 소 속 정당명 | F83: 성 명 | G83: 득표수 | H83: 득표율(%) | I83: 비 고
A84: 국회의원 | C84: 경기 | D84: 성남시분당구을 | E84: 민주당 | F84: 손학규 | G84: 41570 | H84: 51
C85: 전남 | D85: 순천시 | E85: 민주노동당 | F85: 김선동 | G85: 30313 | H85: 36.2
C86: 경남 | D86: 김해시을 | E86: 한나라당 | F86: 김태호 | G86: 44501 | H86: 51
A87: 광역단체장 | C87: 강원 | D87: 강원도 | E87: 민주당 | F87: 최문순 | G87: 293509 | H87: 51.1
A88: 기초단체장 | C88: 서울 | D88: 중구 | E88: 한나라당 | F88: 최창식 | G88: 18105 | H88: 51.3
C89: 울산 | D89: 중구 | E89: 한나라당 | F89: 박성민 | G89: 29060 | H89: 51.2
D90: 동구 | E90: 민주노동당 | F90: 김종훈 | G90: 29561 | H90: 47.3
C91: 강원 | D91: 양양군 | E91: 민주당 | F91: 정상철 | G91: 7705 | H91: 50.6
C92: 충남 | D92: 태안군 | E92: 자유선진당 | F92: 진태구 | G92: 12143 | H92: 44
C93: 전남 | D93: 화순군 | E93: 민주당 | F93: 홍이식 | G93: 16523 | H93: 49
A94: 광역의원 | C94: 울산 | D94: 중구제4 | E94: 한나라당 | F94: 김일현 | G94: 3338 | H94: 29.2
C95: 충북 | D95: 제천시제2 | E95: 한나라당 | F95: 강현삼 | G95: 7123 | H95: 53.9
C96: 전북 | D96: 전주시제9 | E96: 민주당 | F96: 김종담 | G96: 5090 | H96: 50.9
C97: 전남 | D97: 화순군제2 | E97: 민주당 | F97: 구복규 | G97: 6847 | H97: 61.7
C98: 경남 | D98: 거제시제1 | E98: 민주노동당 | F98: 이길종 | G98: 5125 | H98: 27.6
A99: 기초의원 | C99: 서울 | D99: 강남구다 | E99: 한나라당 | F99: 강동원 | G99: 4474 | H99: 66.6
D100: 강남구사 | E100: 한나라당 | F100: 윤석민 | G100: 2550 | H100: 40.8
C101: 대구 | D101: 서구가 | E101: 한나라당 | F101: 안영철 | G101: 3194 | H101: 52.5
D102: 달서구라 | E102: 한나라당 | F102: 배보용 | G102: 5424 | H102: 42.2
D103: 달서구마 | E103: 한나라당 | F103: 이성순 | G103: 3340 | H103: 39.2
C104: 대전 | D104: 대덕구나 | E104: 한나라당 | F104: 윤성환 | G104: 2725 | H104: 32
C105: 울산 | D105: 중구가 | E105: 한나라당 | F105: 권태호 | G105: 9183 | H105: 55.6
A107: 선거구분 | C107: 시도명 | D107: 선거구명 | E107: 소 속 정당명 | F107: 성 명 | G107: 득표수 | H107: 득표율(%) | I107: 비 고
A108: 기초의원 | C108: 경기 | D108: 고양시바 | E108: 한나라당 | F108: 이영휘 | G108: 7022 | H108: 41
...

Sheet (별지1)시간대별투표진행상황
A1: [별지 1]
A2: 시간대별 투표진행상황
Q3: (단위 : %)
A4: 시간대 구 분 | D4: 0.29166667 | E4: 0.375 | F4: 0.45833333 | G4: 0.5 | H4: 0.54166667 | I4: 0.58333333 | J4: 0.625 | K4: 0.66666667 | L4: 0.70833333 | M4: 0.75 | N4: 0.79166667 | O4: 0.83333333 | P4: 투표상황(명)
P5: 선거인수 | Q5: 투표수
A6: 전체평균 | D6: 2.1 | E6: 8.3 | F6: 16.6 | G6: 19.7 | H6: 23.7 | I6: 26 | J6: 28.2 | K6: 30.1 | L6: 32 | M6: 33.8 | N6: 36.1 | O6: 39.4 | P6: 3208954 | Q6: 1263691
A7: 국회 의원 | B7: 평 균 | D7: 2.2 | E7: 9.7 | F7: 17.4 | G7: 20.3 | H7: 24.1 | I7: 26.4 | J7: 28.7 | K7: 30.8 | L7: 33 | M7: 35.2 | N7: 38.3 | O7: 43.5 | P7: =SUM(P8+P10+P12) -> 581940 | Q7: 253209
B8: 성남시분당구을 | D8: 1.8 | E8: 10.7 | F8: 20.2 | G8: 23.6 | H8: 28 | I8: 30.5 | J8: 33.1 | K8: 35.6 | L8: 37.7 | M8: 40 | N8: 42.8 | O8: 49.1 | P8: 166384 | Q8: 81634
C9: 18대 국선 | D9: 0.8 | E9: 5.4 | F9: 13.2 | G9: 18 | H9: 23 | I9: 27.1 | J9: 31.4 | K9: 34.8 | L9: 38 | M9: 45.2 | P9: 166389 | Q9: 75291
B10: 순천시 | D10: 2 | E10: 9.2 | F10: 16.5 | G10: 18.9 | H10: 23 | I10: 25.2 | J10: 27.5 | K10: 29.4 | L10: 31.4 | M10: 33.8 | N10: 36.6 | O10: 41.1 | P10: 204682 | Q10: 84046
C11: 18대 국선 | D11: 2.4 | E11: 9.1 | F11: 18.3 | G11: 22.2 | H11: 27.4 | I11: 30.5 | J11: 33.8 | K11: 36.9 | L11: 39.9 | M11: 43.4 | P11: 196170 | Q11: 85081
B12: 김해시을 | D12: 2.7 | E12: 9.4 | F12: 16.2 | G12: 18.9 | H12: 22.1 | I12: 24.3 | J12: 26.4 | K12: 28.3 | L12: 31 | M12: 32.8 | N12: 36.4 | O12: 41.5 | P12: 210874 | Q12: 87529
C13: 18대 국선 | D13: 2.4 | E13: 9.7 | F13: 18.9 | G13: 22.9 | H13: 27.8 | I13: 31.2 | J13: 34.2 | K13: 37.3 | L13: 40.6 | M13: 45.5 | P13: 183038 | Q13: 83204
A14: 광역단체장 | D14: 2.4 | E14: 9.5 | F14: 20.6 | G14: 24.7 | H14: 29.9 | I14: 33 | J14: 35.9 | K14: 38.1 | L14: 40.3 | M14: 42.3 | N14: 44.7 | O14: 47.5 | P14: 1214936 | Q14: 577124
C15: 5회 지선 | D15: 5.5 | E15: 16.3 | F15: 29.7 | G15: 36.1 | H15: 43.9 | I15: 48.1 | J15: 52.3 | K15: 55.5 | L15: 58.5 | M15: 62.3 | P15: 1190509 | Q15: 741724
A16: 기초단체장(6) | D16: 2.4 | E16: 9.9 | F16: 17.6 | G16: 20.8 | H16: 24.7 | I16: 27 | J16: 29.2 | K16: 31.3 | L16: 33.2 | M16: 35.2 | N16: 37.8 | O16: 41.7 | P16: 557985 | Q16: 232875
A17: 광역의원(5) | D17: 1.8 | E17: 6.5 | F17: 12.5 | G17: 14.5 | H17: 17 | I17: 18.5 | J17: 20.1 | K17: 21.5 | L17: 22.8 | M17: 24.3 | N17: 27 | O17: 30.4 | P17: 214598 | Q17: 65200
A18: 기초의원(23) | D18: 1.2 | E18: 5.1 | F18: 11.6 | G18: 12.8 | H18: 15.6 | I18: 17.1 | J18: 18.6 | K18: 19.9 | L18: 21.1 | M18: 22.4 | N18: 23.8 | O18: 25.8 | P18: 789177 | Q18: 203234
A21: 시간대 구 분 | D21: 0.29166667 | E21: 0.375 | F21: 0.45833333 | G21: 0.5 | H21: 0.54166667 | I21: 0.58333333 | J21: 0.625 | K21: 0.66666667 | L21: 0.70833333 | M21: 0.75 | N21: 0.79166667 | O21: 0.83333333 | P21: 최종투표율 | Q21: 비 고
A22: '10. 하반기 재·보궐선거 | D22: 1.1 | E22: 5.1 | F22: 11.4 | G22: 14.3 | H22: 17 | I22: 19.8 | J22: 21.7 | K22: 23.5 | L22: 25 | M22: 26.7 | N22: 28.5 | O22: 30.9 | P22: 30.9 | Q22: 기초단체장 2광역의원 1 기초의원 3
A23: '10. 상반기 재·보궐선거 | D23: 2.1 | E23: 7.6 | F23: 14.2 | G23: 16.7 | H23: 20 | I23: 21.8 | J23: 23.6 | K23: 25.3 | L23: 27 | M23: 28.8 | N23: 30.8 | O23: 34.1 | P23: 34.1 | Q23: 국선 8
A24: '09. 상반기 재·보궐선거 | C24: 전체 | D24: 2.1128148 | E24: 7.9744531 | F24: 14.388905 | G24: 16.625544 | H24: 19.879601 | I24: =(H24+J24)/2 -> 21.706726 | J24: 23.533852 | K24: =(J24+L24)/2 -> 25.244541 | L24: 26.955231 | M24: 28.798346 | N24: 31.002854 | O24: 34.466594 | P24: 34.5 | Q24: 국선 5 기초단체장 1 광역의원 3 기초의원 5
C25: 국선 | D25: 2.5 | E25: 9.5 | F25: 17 | G25: 19.7 | H25: 23.5 | I25: =(H25+J25)/2 -> 25.6 | J25: 27.7 | K25: =(J25+L25)/2 -> 29.7 | L25: 31.7 | M25: 33.9 | N25: 36.6 | O25: 40.8 | P25: 40.8

Sheet (별지2)후보자별득표상황
A1: [별지 2]
A3: 후보자별 득표상황
A4: 선거 | B4: 시도명 | C4: 선거구명 | D4: 선거인수 | E4: 투표수 | F4: 후보자별 득표수(득표율) | J4: 무 효 | K4: 기권자수
A5: 구분 | E5: (투표율) | J5: 투표수
A6: 국 회 의 원 | B6: 경기 | C6: 성남시 분당구을 | D6: =보선결과!E22 -> 166384 | E6: 81634 | F6: 한나라당 | G6: 민주당 | H6: 무소속 | I6: 계 | J6: =E6-I8 -> 130 | K6: =D6-E6 -> 84750
E7: =E6/D6 -> 0.49063612 | F7: 강재섭 | G7: 손학규 | H7: 이재진 | J7: =J6/E6 -> 0.0015924737
F8: 39382 | G8: 41570 | H8: 552 | I8: =SUM(F8:H8) -> 81504
F9: =F8/$I$8 -> 0.48319101 | G9: =G8/$I$8 -> 0.51003632 | H9: =H8/$I$8 -> 0.0067726737
B10: 전남 | C10: 순천시 | D10: =보선결과!E23 -> 204682 | E10: 84046 | F10: 민주노동당 | G10: 무소속 | H10: 무소속 | I10: 무소속 | J10: =E10-I16 -> 404 | K10: =D10-E10 -> 120636
E11: =E10/D10 -> 0.41061745 | F11: 김선동 | G11: 허상만 | H11: 조순용 | I11: 허신행 | J11: =J10/E10 -> 0.0048068915
F12: 30313 | G12: 9596 | H12: 18172 | I12: 2036
F13: =F12/$I$16 -> 0.36241362 | G13: =G12/$I$16 -> 0.11472705 | H13: =H12/$I$16 -> 0.21725927 | I13: =I12/$I$16 -> 0.024341838
F14: 무소속 | G14: 무소속 | H14: 무소속 | I14: 계
F15: 박상철 | G15: 구희승 | H15: 김경재
F16: 6974 | G16: 13287 | H16: 3264 | I16: =SUM(F12:I12,F16:H16) -> 83642
F17: =F16/$I$16 -> 0.083379164 | G17: =G16/$I$16 -> 0.1588556 | H17: =H16/$I$16 -> 0.039023457
B18: 경남 | C18: 김해시을 | D18: =보선결과!E24 -> 210874 | E18: 87529 | F18: 한나라당 | G18: 국민참여당 | I18: 계 | J18: =E18-I20 -> 300 | K18: =D18-E18 -> 123345
E19: =E18/D18 -> 0.41507725 | F19: 김태호 | G19: 이봉수 | J19: =J18/E18 -> 0.0034274355
F20: 44501 | G20: 42728 | I20: =SUM(F20:H20) -> 87229
F21: =F20/$I$20 -> 0.5101629 | G21: =G20/$I$20 -> 0.4898371
A22: 광 역 단체장 | B22: 강원도 | C22: 강원도 | D22: =보선결과!E25 -> 1214936 | E22: 577124 | F22: 한나라당 | G22: 민주당 | H22: 무소속 | I22: 계 | J22: =E22-I24 -> 2614 | K22: =D22-E22 -> 637812
E23: =E22/D22 -> 0.4750242 | F23: 엄기영 | G23: 최문순 | H23: 황학수 | J23: =J22/E22 -> 0.0045293559
F24: 267538 | G24: 293509 | H24: 13463 | I24: =SUM(F24:H24) -> 574510
F25: =F24/$I$24 -> 0.46568032 | G25: =G24/$I$24 -> 0.5108858 | H25: =H24/$I$24 -> 0.023433883
A26: 기 초 단체장 | B26: 서울 | C26: 중구 | D26: =보선결과!E27 -> 112888 | E26: 35419 | F26: 한나라당 | G26: 민주당 | I26: 계 | J26: =E26-I28 -> 133 | K26: =D26-E26 -> 77469
E27: =E26/D26 -> 0.31375345 | F27: 최창식 | G27: 김상국 | J27: =J26/E26 -> 0.0037550467
F28: 18105 | G28: 17181 | I28: =SUM(F28:H28) -> 35286
F29: =F28/$I$28 -> 0.51309301 | G29: =G28/$I$28 -> 0.48690699
B30: 울산 | C30: 중구 | D30: =보선결과!E28 -> 181700 | E30: 57410 | F30: 한나라당 | G30: 민주당 | I30: 계 | J30: =E30-I32 -> 645 | K30: =D30-E30 -> 124290
E31: =E30/D30 -> 0.31596037 | F31: 박성민 | G31: 임동호 | J31: =J30/E30 -> 0.011234976
F32: 29060 | G32: 27705 | I32: =SUM(F32:H32) -> 56765
F33: =F32/$I$32 -> 0.51193517 | G33: =G32/$I$32 -> 0.48806483
C34: 동구 | D34: =보선결과!E29 -> 132233 | E34: 62782 | F34: 한나라당 | G34: 민주노동당 | H34: 무소속 | I34: 무소속 | J34: =E34-I40 -> 288 | K34: =D34-E34 -> 69451
E35: =E34/D34 -> 0.47478315 | F35: 임명숙 | G35: 김종훈 | H35: 천기옥 | I35: 이갑용 | J35: =J34/E34 -> 0.0045873021
F36: 26887 | G36: 29561 | H36: 3797 | I36: 2249
F37: =F36/$I$40 -> 0.4302333 | G37: =G36/$I$40 -> 0.47302141 | H37: =H36/$I$40 -> 0.060757833 | I37: =I36/$I$40 -> 0.035987455
I38: 계
I40: =SUM(F36:I36) -> 62494
B42: 강원도 | C42: 양양군 | D42: =보선결과!E30 -> 23309 | E42: 15385 | F42: 한나라당 | G42: 민주당 | H42: 무소속 | I42: 무소속 | J42: =E42-I48 -> 166 | K42: =D42-E42 -> 7924
E43: =E42/D42 -> 0.66004548 | F43: 안석현 | G43: 정상철 | H43: 박상형 | I43: 이기용 | J43: =J42/E42 -> 0.01078973
F44: 3528 | G44: 7705 | H44: 859 | I44: 3127
F45: =F44/$I$48 -> 0.23181549 | G45: =G44/$I$48 -> 0.50627505 | H45: =H44/$I$48 -> 0.056442605 | I45: 0.206
I46: 계
I48: =SUM(F44:I44) -> 15219
A50: 기 초 단체장 | B50: 충남 | C50: 태안군 | D50: =보선결과!E31 -> 52796 | E50: 27730 | F50: 한나라당 | G50: 민주당 | H50: 자유선진당 | I50: 무소속 | J50: =E50-I56 -> 144 | K50: =D50-E50 -> 25066
E51: =E50/D50 -> 0.52522918 | F51: 가세로 | G51: 이기재 | H51: 진태구 | I51: 한상복 | J51: =J50/E50 -> 0.0051929318
F52: 8318 | G52: 6015 | H52: 12143 | I52: 1110
F53: =F52/$I$56 -> 0.30152976 | G53: =G52/$I$56 -> 0.21804539 | H53: =H52/$I$56 -> 0.44018705 | I53: =I52/$I$56 -> 0.040237802
I54: 계
I56: =SUM(F52:I52) -> 27586
B58: 전남 | C58: 화순군 | D58: =보선결과!E32 -> 55059 | E58: 34149 | F58: 민주당 | G58: 민주노동당 | H58: 진보신당 | I58: 무소속 | J58: =E58-I64 -> 455 | K58: =D58-E58 -> 20910
E59: =E58/D58 -> 0.62022558 | F59: 홍이식 | G59: 백남수 | H59: 최만원 | I59: 임호경 | J59: =J58/E58 -> 0.013323963
F60: 16523 | G60: 3510 | H60: 574 | I60: 13087
F61: =F60/$I$64 -> 0.49038404 | G61: =G60/$I$64 -> 0.10417285 | H61: =H60/$I$64 -> 0.017035674 | I61: =I60/$I$64 -> 0.38840743
I62: 계
I64: =SUM(F60:I60) -> 33694
A66: 광 역 의 원 | B66: 울산 | C66: 중구제4 | D66: =보선결과!E33 -> 28533 | E66: 11573 | F66: 한나라당 | G66: 민주노동당 | H66: 무소속 | I66: 무소속 | J66: =E66-I72 -> 153 | K66: =D66-E66 -> 16960
E67: =E66/D66 -> 0.40560053 | F67: 김일현 | G67: 권순정 | H67: 이동해 | I67: 장정옥 | J67: =J66/E66 -> 0.013220427
F68: 3338 | G68: 3051 | H68: 1070 | I68: 1957
F69: =F68/$I$72 -> 0.29229422 | G69: =G68/$I$72 -> 0.26716287 | H69: =H68/$I$72 -> 0.093695271 | I69: =I68/$I$72 -> 0.17136602
F70: 무소속 | I70: 계
F71: 박대원
F72: 2004 | I72: =SUM(F68:I68,F72:H72) -> 11420
F73: 0.176
B74: 충북 | C74: 제천시제2 | D74: =보선결과!E34 -> 44921 | E74: 13304 | F74: 한나라당 | G74: 민주당 | H74: 민주노동당 | I74: 계 | J74: =E74-I76 -> 86 | K74: =D74-E74 -> 31617
E75: =E74/D74 -> 0.29616438 | F75: 강현삼 | G75: 박상은 | H75: 정이택 | J75: =J74/E74 -> 0.0064642213
F76: 7123 | G76: 4859 | H76: 1236 | I76: =SUM(F76:H76) -> 13218
F77: =F76/$I$76 -> 0.53888637 | G77: =G76/$I$76 -> 0.36760478 | H77: 0.093
A78: 광 역 의 원 | B78: 전북 | C78: 전주시제9 | D78: =보선결과!E35 -> 51652 | E78: 10102 | F78: 민주당 | G78: 진보신당 | H78: 무소속 | I78: 계 | J78: =E78-I80 -> 98 | K78: =D78-E78 -> 41550
E79: =E78/D78 -> 0.1955781 | F79: 김종담 | G79: 황정구 | H79: 김승중 | J79: =J78/E78 -> 0.0097010493
F80: 5090 | G80: 3611 | H80: 1303 | I80: =SUM(F80:H80) -> 10004
F81: =F80/$I$80 -> 0.50879648 | G81: =G80/$I$80 -> 0.36095562 | H81: =H80/$I$80 -> 0.1302479
B82: 전남 | C82: 화순군제2 | D82: =보선결과!E36 -> 17478 | E82: 11548 | F82: 민주당 | G82: 민주노동당 | I82: 계 | J82: =E82-I84 -> 455 | K82: =D82-E82 -> 5930
E83: =E82/D82 -> 0.66071633 | F83: 구복규 | G83: 김기철 | J83: =J82/E82 -> 0.039400762
F84: 6847 | G84: 4246 | I84: =SUM(F84:G84) -> 11093
F85: =F84/$I$84 -> 0.61723609 | G85: =G84/$I$84 -> 0.38276391
B86: 경남 | C86: 거제시제1 | D86: =보선결과!E37 -> 72014 | E86: 18673 | F86: 한나라당 | G86: 민주노동당 | H86: 무소속 | I86: 무소속 | J86: =E86-I92 -> 81 | K86: =D86-E86 -> 53341
E87: =E86/D86 -> 0.2592968 | F87: 박행용 | G87: 이길종 | H87: 김창성 | I87: 이태재 | J87: =J86/E86 -> 0.004337814
F88: 4102 | G88: 5125 | H88: 3295 | I88: 3827
F89: 0.22 | G89: =G88/$I$92 -> 0.2756562 | H89: =H88/$I$92 -> 0.17722676 | I89: =I88/$I$92 -> 0.20584122
F90: 무소속 | I90: 계
F91: 황양득
F92: 2243 | I92: =SUM(F88:I88,F92:H92) -> 18592
F93: =F92/$I$92 -> 0.12064329
A94: 기 초 의 원 | B94: 서울 | C94: 강남구다 | D94: =보선결과!E38 -> 71290 | E94: 6748 | F94: 한나라당 | G94: 민주당 | I94: 계 | J94: =E94-I96 -> 31 | K94: =D94-E94 -> 64542
E95: =E94/D94 -> 0.094655632 | F95: 강동원 | G95: 복진경 | J95: =J94/E94 -> 0.0045939538
F96: 4474 | G96: 2243 | I96: =SUM(F96:G96) -> 6717
F97: =F96/$I$96 -> 0.66607116 | G97: =G96/$I$96 -> 0.33392884
C98: 강남구사 | D98: =보선결과!E39 -> 36880 | E98: 6267 | F98: 한나라당 | G98: 민주당 | H98: 무소속 | I98: 계 | J98: =E98-I100 -> 17 | K98: =D98-E98 -> 30613
E99: =E98/D98 -> 0.1699295 | F99: 윤석민 | G99: 문백한 | H99: 서영원 | J99: =J98/E98 -> 0.0027126217
F100: 2550 | G100: 1852 | H100: 1848 | I100: =SUM(F100:H100) -> 6250
F101: =F100/$I$100 -> 0.408 | G101: =G100/$I$100 -> 0.29632 | H101: =H100/$I$100 -> 0.29568
A102: 기 초 의 원 | B102: 대구 | C102: 서구가 | D102: =보선결과!E40 -> 38148 | E102: 6113 | F102: 한나라당 | G102: 민주당 | H102: 무소속 | I102: 무소속 | J102: =E102-I108 -> 33 | K102: =D102-E102 -> 32035
E103: =E102/D102 -> 0.16024431 | F103: 안영철 | G103: 정재현 | H103: 권영미 | I103: 봉원희 | J103: =J102/E102 -> 0.0053983314
F104: 3194 | G104: 518 | H104: 316 | I104: 1458
F105: =F104/$I$108 -> 0.52532895 | G105: =G104/$I$108 -> 0.085197368 | H105: =H104/$I$108 -> 0.051973684 | I105: =I104/$I$108 -> 0.23980263
F106: 무소속 | I106: 계
F107: 윤정현
F108: 594 | I108: =SUM(F104:I104,F108:H108) -> 6080
F109: =F108/$I$108 -> 0.097697368
...
