Workbook

Sheet 보선결과
A1: 2011년 상반기 재·보궐선거 투·개표 결과
A3: 1. 후보자등록상황
A4: 선거구분 | B4: 시도명 | C4: 선거구명 | D4: 등 록 후보자수 | E4: 사퇴·사망 ·등록무효 | F4: 최 종 후보자수 | G4: 경쟁률 | I4: 비고
A5: 계 | D5: =SUM(D6:D17) -> 135 | E5: =SUM(E6:E17) -> 1 | F5: =SUM(F6:F17) -> 134 | G5: 3.5 : 1
A6: 국 회 의 원 | B6: 경기 | C6: 성남시분당구을 | D6: 3 | E6: 0 | F6: =D6-E6 -> 3 | G6: 3 : 1
B7: 전남 | C7: 순천시 | D7: 7 | E7: 0 | F7: =D7-E7 -> 7 | G7: 7 : 1
B8: 경남 | C8: 김해시을 | D8: 2 | E8: 0 | F8: =D8-E8 -> 2 | G8: 2 : 1
A9: 광 역 단체장 | B9: 강원 | C9: 강원도 | D9: 3 | E9: 0 | F9: =D9-E9 -> 3 | G9: 3 : 1
A10: 기 초 단체장 | B10: 서울 | C10: 중구 | D10: 2 | E10: 0 | F10: =D10-E10 -> 2 | G10: 2 : 1
B11: 울산 | C11: 중구 | D11: 2 | E11: 0 | F11: =D11-E11 -> 2 | G11: 2 : 1
C12: 동구 | D12: 4 | E12: 0 | F12: =D12-E12 -> 4 | G12: 4 : 1
B13: 강원 | C13: 양양군 | D13: 4 | E13: 0 | F13: =D13-E13 -> 4 | G13: 4 : 1
B14: 충남 | C14: 태안군 | D14: 4 | E14: 0 | F14: =D14-E14 -> 4 | G14: 4 : 1
B15: 전남 | C15: 화순군 | D15: 4 | E15: 0 | F15: =D15-E15 -> 4 | G15: 4 : 1
A16: 광역의원(5) | D16: 18 | E16: 0 | F16: =D16-E16 -> 18 | G16: 3.6 : 1
A17: 기초의원(23) | D17: 82 | E17: 1 | F17: =D17-E17 -> 81 | G17: 3.5 : 1
A19: 2. 투표상황
A20: 가. 선거구별 투표결과
A21: 선거구분 | C21: 시도명 | D21: 선거구명 | E21: 선거인수 | G21: 투표자수 | H21: 투표율 (%) | I21: 비고
A22: 국회의원 | C22: 경기 | D22: 성남시분당구을 | E22: 166384 | G22: ='(별지2)후보자별득표상황'!E6 -> 81634 | H22: =ROUND(G22*100/E22,1) -> 49.1
C23: 전남 | D23: 순천시 | E23: 204682 | G23: ='(별지2)후보자별득표상황'!E10 -> 84046 | H23: =ROUND(G23*100/E23,1) -> 41.1
C24: 경남 | D24: 김해시을 | E24: 210874 | G24: ='(별지2)후보자별득표상황'!E18 -> 87529 | H24: =ROUND(G24*100/E24,1) -> 41.5
A25: 광역단체장 | C25: 강원 | D25: 강원도 | E25: 1214936 | G25: ='(별지2)후보자별득표상황'!E22 -> 577124 | H25: =ROUND(G25*100/E25,1) -> 47.5
A26: 선거구분 | C26: 시도명 | D26: 선거구명 | E26: 선거인수 | G26: 투표자수 | H26: 투표율 (%) | I26: 비고
A27: 기초단체장 | C27: 서울 | D27: 중구 | E27: 112888 | G27: ='(별지2)후보자별득표상황'!E26 -> 35419 | H27: =ROUND(G27*100/E27,1) -> 31.4
C28: 울산 | D28: 중구 | E28: 181700 | G28: ='(별지2)후보자별득표상황'!E30 -> 57410 | H28: =ROUND(G28*100/E28,1) -> 31.6
D29: 동구 | E29: 132233 | G29: ='(별지2)후보자별득표상황'!E34 -> 62782 | H29: =ROUND(G29*100/E29,1) -> 47.5
C30: 강원 | D30: 양양군 | E30: 23309 | G30: ='(별지2)후보자별득표상황'!E42 -> 15385 | H30: =ROUND(G30*100/E30,1) -> 66
C31: 충남 | D31: 태안군 | E31: 52796 | G31: ='(별지2)후보자별득표상황'!E50 -> 27730 | H31: =ROUND(G31*100/E31,1) -> 52.5
C32: 전남 | D32: 화순군 | E32: 55059 | G32: ='(별지2)후보자별득표상황'!E58 -> 34149 | H32: =ROUND(G32*100/E32,1) -> 62
A33: 광역의원 | C33: 울산 | D33: 중구제4 | E33: 28533 | G33: ='(별지2)후보자별득표상황'!E66 -> 11573 | H33: =ROUND(G33*100/E33,1) -> 40.6
C34: 충북 | D34: 제천시제2 | E34: 44921 | G34: ='(별지2)후보자별득표상황'!E74 -> 13304 | H34: =ROUND(G34*100/E34,1) -> 29.6
C35: 전북 | D35: 전주시제9 | E35: 51652 | G35: ='(별지2)후보자별득표상황'!E78 -> 10102 | H35: =ROUND(G35*100/E35,1) -> 19.6
C36: 전남 | D36: 화순군제2 | E36: 17478 | G36: ='(별지2)후보자별득표상황'!E82 -> 11548 | H36: =ROUND(G36*100/E36,1) -> 66.1
C37: 경남 | D37: 거제시제1 | E37: 72014 | G37: ='(별지2)후보자별득표상황'!E86 -> 18673 | H37: =ROUND(G37*100/E37,1) -> 25.9
A38: 기초의원 | C38: 서울 | D38: 강남구다 | E38: 71290 | G38: ='(별지2)후보자별득표상황'!E94 -> 6748 | H38: =ROUND(G38*100/E38,1) -> 9.5
D39: 강남구사 | E39: 36880 | G39: ='(별지2)후보자별득표상황'!E98 -> 6267 | H39: =ROUND(G39*100/E39,1) -> 17
C40: 대구 | D40: 서구가 | E40: 38148 | G40: ='(별지2)후보자별득표상황'!E102 -> 6113 | H40: =ROUND(G40*100/E40,1) -> 16
D41: 달서구라 | E41: 83205 | G41: ='(별지2)후보자별득표상황'!E110 -> 12935 | H41: =ROUND(G41*100/E41,1) -> 15.5
D42: 달서구마 | E42: 46316 | G42: ='(별지2)후보자별득표상황'!E118 -> 8584 | H42: =ROUND(G42*100/E42,1) -> 18.5
...

Sheet (별지1)시간대별투표진행상황
A1: [별지 1]
A2: 시간대별 투표진행상황
Q3: (단위 : %)
A4: 시간대 구 분 | D4: 0.29166667 | E4: 0.375 | F4: 0.45833333 | G4: 0.5 | H4: 0.54166667 | I4: 0.58333333 | J4: 0.625 | K4: 0.66666667 | L4: 0.70833333 | M4: 0.75 | N4: 0.79166667 | O4: 0.83333333 | P4: 투표상황(명)
P5: 선거인수 | Q5: 투표수
A6: 전체평균 | D6: 2.1 | E6: 8.3 | F6: 16.6 | G6: 19.7 | H6: 23.7 | I6: 26 | J6: 28.2 | K6: 30.1 | L6: 32 | M6: 33.8 | N6: 36.1 | O6: 39.4 | P6: 3208954 | Q6: 1263691
A7: 국회 의원 | B7: 평 균 | D7: 2.2 | E7: 9.7 | F7: 17.4 | G7: 20.3 | H7: 24.1 | I7: 26.4 | J7: 28.7 | K7: 30.8 | L7: 33 | M7: 35.2 | N7: 38.3 | O7: 43.5 | P7: =SUM(P8+P10+P12) -> 581940 | Q7: 253209
B8: 성남시분당구을 | D8: 1.8 | E8: 10.7 | F8: 20.2 | G8: 23.6 | H8: 28 | I8: 30.5 | J8: 33.1 | K8: 35.6 | L8: 37.7 | M8: 40 | N8: 42.8 | O8: 49.1 | P8: 166384 | Q8: 81634
C9: 18대 국선 | D9: 0.8 | E9: 5.4 | F9: 13.2 | G9: 18 | H9: 23 | I9: 27.1 | J9: 31.4 | K9: 34.8 | L9: 38 | M9: 45.2 | P9: 166389 | Q9: 75291
B10: 순천시 | D10: 2 | E10: 9.2 | F10: 16.5 | G10: 18.9 | H10: 23 | I10: 25.2 | J10: 27.5 | K10: 29.4 | L10: 31.4 | M10: 33.8 | N10: 36.6 | O10: 41.1 | P10: 204682 | Q10: 84046
C11: 18대 국선 | D11: 2.4 | E11: 9.1 | F11: 18.3 | G11: 22.2 | H11: 27.4 | I11: 30.5 | J11: 33.8 | K11: 36.9 | L11: 39.9 | M11: 43.4 | P11: 196170 | Q11: 85081
B12: 김해시을 | D12: 2.7 | E12: 9.4 | F12: 16.2 | G12: 18.9 | H12: 22.1 | I12: 24.3 | J12: 26.4 | K12: 28.3 | L12: 31 | M12: 32.8 | N12: 36.4 | O12: 41.5 | P12: 210874 | Q12: 87529
C13: 18대 국선 | D13: 2.4 | E13: 9.7 | F13: 18.9 | G13: 22.9 | H13: 27.8 | I13: 31.2 | J13: 34.2 | K13: 37.3 | L13: 40.6 | M13: 45.5 | P13: 183038 | Q13: 83204
A14: 광역단체장 | D14: 2.4 | E14: 9.5 | F14: 20.6 | G14: 24.7 | H14: 29.9 | I14: 33 | J14: 35.9 | K14: 38.1 | L14: 40.3 | M14: 42.3 | N14: 44.7 | O14: 47.5 | P14: 1214936 | Q14: 577124
C15: 5회 지선 | D15: 5.5 | E15: 16.3 | F15: 29.7 | G15: 36.1 | H15: 43.9 | I15: 48.1 | J15: 52.3 | K15: 55.5 | L15: 58.5 | M15: 62.3 | P15: 1190509 | Q15: 741724
A16: 기초단체장(6) | D16: 2.4 | E16: 9.9 | F16: 17.6 | G16: 20.8 | H16: 24.7 | I16: 27 | J16: 29.2 | K16: 31.3 | L16: 33.2 | M16: 35.2 | N16: 37.8 | O16: 41.7 | P16: 557985 | Q16: 232875
A17: 광역의원(5) | D17: 1.8 | E17: 6.5 | F17: 12.5 | G17: 14.5 | H17: 17 | I17: 18.5 | J17: 20.1 | K17: 21.5 | L17: 22.8 | M17: 24.3 | N17: 27 | O17: 30.4 | P17: 214598 | Q17: 65200
A18: 기초의원(23) | D18: 1.2 | E18: 5.1 | F18: 11.6 | G18: 12.8 | H18: 15.6 | I18: 17.1 | J18: 18.6 | K18: 19.9 | L18: 21.1 | M18: 22.4 | N18: 23.8 | O18: 25.8 | P18: 789177 | Q18: 203234
A21: 시간대 구 분 | D21: 0.29166667 | E21: 0.375 | F21: 0.45833333 | G21: 0.5 | H21: 0.54166667 | I21: 0.58333333 | J21: 0.625 | K21: 0.66666667 | L21: 0.70833333 | M21: 0.75 | N21: 0.79166667 | O21: 0.83333333 | P21: 최종투표율 | Q21: 비 고
A22: '10. 하반기 재·보궐선거 | D22: 1.1 | E22: 5.1 | F22: 11.4 | G22: 14.3 | H22: 17 | I22: 19.8 | J22: 21.7 | K22: 23.5 | L22: 25 | M22: 26.7 | N22: 28.5 | O22: 30.9 | P22: 30.9 | Q22: 기초단체장 2광역의원 1 기초의원 3
A23: '10. 상반기 재·보궐선거 | D23: 2.1 | E23: 7.6 | F23: 14.2 | G23: 16.7 | H23: 20 | I23: 21.8 | J23: 23.6 | K23: 25.3 | L23: 27 | M23: 28.8 | N23: 30.8 | O23: 34.1 | P23: 34.1 | Q23: 국선 8
A24: '09. 상반기 재·보궐선거 | C24: 전체 | D24: 2.1128148 | E24: 7.9744531 | F24: 14.388905 | G24: 16.625544 | H24: 19.879601 | I24: =(H24+J24)/2 -> 21.706726 | J24: 23.533852 | K24: =(J24+L24)/2 -> 25.244541 | L24: 26.955231 | M24: 28.798346 | N24: 31.002854 | O24: 34.466594 | P24: 34.5 | Q24: 국선 5 기초단체장 1 광역의원 3 기초의원 5
C25: 국선 | D25: 2.5 | E25: 9.5 | F25: 17 | G25: 19.7 | H25: 23.5 | I25: =(H25+J25)/2 -> 25.6 | J25: 27.7 | K25: =(J25+L25)/2 -> 29.7 | L25: 31.7 | M25: 33.9 | N25: 36.6 | O25: 40.8 | P25: 40.8

Sheet (별지2)후보자별득표상황
A1: [별지 2]
A3: 후보자별 득표상황
A4: 선거 | B4: 시도명 | C4: 선거구명 | D4: 선거인수 | E4: 투표수 | F4: 후보자별 득표수(득표율) | J4: 무 효 | K4: 기권자수
A5: 구분 | E5: (투표율) | J5: 투표수
A6: 국 회 의 원 | B6: 경기 | C6: 성남시 분당구을 | D6: =보선결과!E22 -> 166384 | E6: 81634 | F6: 한나라당 | G6: 민주당 | H6: 무소속 | I6: 계 | J6: =E6-I8 -> 130 | K6: =D6-E6 -> 84750
E7: =E6/D6 -> 0.49063612 | F7: 강재섭 | G7: 손학규 | H7: 이재진 | J7: =J6/E6 -> 0.0015924737
F8: 39382 | G8: 41570 | H8: 552 | I8: =SUM(F8:H8) -> 81504
F9: =F8/$I$8 -> 0.48319101 | G9: =G8/$I$8 -> 0.51003632 | H9: =H8/$I$8 -> 0.0067726737
B10: 전남 | C10: 순천시 | D10: =보선결과!E23 -> 204682 | E10: 84046 | F10: 민주노동당 | G10: 무소속 | H10: 무소속 | I10: 무소속 | J10: =E10-I16 -> 404 | K10: =D10-E10 -> 120636
E11: =E10/D10 -> 0.41061745 | F11: 김선동 | G11: 허상만 | H11: 조순용 | I11: 허신행 | J11: =J10/E10 -> 0.0048068915
F12: 30313 | G12: 9596 | H12: 18172 | I12: 2036
F13: =F12/$I$16 -> 0.36241362 | G13: =G12/$I$16 -> 0.11472705 | H13: =H12/$I$16 -> 0.21725927 | I13: =I12/$I$16 -> 0.024341838
F14: 무소속 | G14: 무소속 | H14: 무소속 | I14: 계
F15: 박상철 | G15: 구희승 | H15: 김경재
F16: 6974 | G16: 13287 | H16: 3264 | I16: =SUM(F12:I12,F16:H16) -> 83642
F17: =F16/$I$16 -> 0.083379164 | G17: =G16/$I$16 -> 0.1588556 | H17: =H16/$I$16 -> 0.039023457
B18: 경남 | C18: 김해시을 | D18: =보선결과!E24 -> 210874 | E18: 87529 | F18: 한나라당 | G18: 국민참여당 | I18: 계 | J18: =E18-I20 -> 300 | K18: =D18-E18 -> 123345
E19: =E18/D18 -> 0.41507725 | F19: 김태호 | G19: 이봉수 | J19: =J18/E18 -> 0.0034274355
F20: 44501 | G20: 42728 | I20: =SUM(F20:H20) -> 87229
F21: =F20/$I$20 -> 0.5101629 | G21: =G20/$I$20 -> 0.4898371
A22: 광 역 단체장 | B22: 강원도 | C22: 강원도 | D22: =보선결과!E25 -> 1214936 | E22: 577124 | F22: 한나라당 | G22: 민주당 | H22: 무소속 | I22: 계 | J22: =E22-I24 -> 2614 | K22: =D22-E22 -> 637812
E23: =E22/D22 -> 0.4750242 | F23: 엄기영 | G23: 최문순 | H23: 황학수 | J23: =J22/E22 -> 0.0045293559
F24: 267538 | G24: 293509 | H24: 13463 | I24: =SUM(F24:H24) -> 574510
F25: =F24/$I$24 -> 0.46568032 | G25: =G24/$I$24 -> 0.5108858 | H25: =H24/$I$24 -> 0.023433883
A26: 기 초 단체장 | B26: 서울 | C26: 중구 | D26: =보선결과!E27 -> 112888 | E26: 35419 | F26: 한나라당 | G26: 민주당 | I26: 계 | J26: =E26-I28 -> 133 | K26: =D26-E26 -> 77469
E27: =E26/D26 -> 0.31375345 | F27: 최창식 | G27: 김상국 | J27: =J26/E26 -> 0.0037550467
F28: 18105 | G28: 17181 | I28: =SUM(F28:H28) -> 35286
F29: =F28/$I$28 -> 0.51309301 | G29: =G28/$I$28 -> 0.48690699
B30: 울산 | C30: 중구 | D30: =보선결과!E28 -> 181700 | E30: 57410 | F30: 한나라당 | G30: 민주당 | I30: 계 | J30: =E30-I32 -> 645 | K30: =D30-E30 -> 124290
E31: =E30/D30 -> 0.31596037 | F31: 박성민 | G31: 임동호 | J31: =J30/E30 -> 0.011234976
F32: 29060 | G32: 27705 | I32: =SUM(F32:H32) -> 56765
F33: =F32/$I$32 -> 0.51193517 | G33: =G32/$I$32 -> 0.48806483
C34: 동구 | D34: =보선결과!E29 -> 132233 | E34: 62782 | F34: 한나라당 | G34: 민주노동당 | H34: 무소속 | I34: 무소속 | J34: =E34-I40 -> 288 | K34: =D34-E34 -> 69451
E35: =E34/D34 -> 0.47478315 | F35: 임명숙 | G35: 김종훈 | H35: 천기옥 | I35: 이갑용 | J35: =J34/E34 -> 0.0045873021
F36: 26887 | G36: 29561 | H36: 3797 | I36: 2249
F37: =F36/$I$40 -> 0.4302333 | G37: =G36/$I$40 -> 0.47302141 | H37: =H36/$I$40 -> 0.060757833 | I37: =I36/$I$40 -> 0.035987455
I38: 계
I40: =SUM(F36:I36) -> 62494
B42: 강원도 | C42: 양양군 | D42: =보선결과!E30 -> 23309 | E42: 15385 | F42: 한나라당 | G42: 민주당 | H42: 무소속 | I42: 무소속 | J42: =E42-I48 -> 166 | K42: =D42-E42 -> 7924
E43: =E42/D42 -> 0.66004548 | F43: 안석현 | G43: 정상철 | H43: 박상형 | I43: 이기용 | J43: =J42/E42 -> 0.01078973
...
